BEGIN:VCALENDAR
VERSION:2.0
PRODID:icalendar-ruby
CALSCALE:GREGORIAN
METHOD:PUBLISH
BEGIN:VEVENT
DTSTAMP:20260419T135706Z
UID:49b3feaf-4022-47e5-a361-e2d5a1755623
DTSTART:20260205T080000
DTEND:20260208T160000
DESCRIPTION:<p><span style="color: rgb(14\, 1\, 1)\;">The aQuelle Midmar Mi
 le is the world's largest open water swimming event\, held annually in Feb
 ruary at aQuelle Midmar Dam\, North of Pietermaritzburg in South Africa. I
 t attracts thousands of participants\, from elite athletes to recreational
  swimmers. The race is approximately one mile\, 1.6KM long\, there is swim
  events for all ages and different levels of swimmers including disability
 \, families\, teams and professionals. This event is split over two days a
 llowing swimmers to participate in multiple events in various categories a
 nd event to have multiple dam crossings.</span></p>
LOCATION:Howick\, KZN
SUMMARY:aQuelle Midmar Mile 2026
URL;VALUE=URI:https://midmarmile.howler.co.za/aquelle2026
END:VEVENT
END:VCALENDAR
